BEGIN:VCALENDAR
VERSION:2.0
PRODID:-//St. Pete Veterinary Hospital - ECPv6.15.18//NONSGML v1.0//EN
CALSCALE:GREGORIAN
METHOD:PUBLISH
X-WR-CALNAME:St. Pete Veterinary Hospital
X-ORIGINAL-URL:https://stpetevet.com
X-WR-CALDESC:Events for St. Pete Veterinary Hospital
REFRESH-INTERVAL;VALUE=DURATION:PT1H
X-Robots-Tag:noindex
X-PUBLISHED-TTL:PT1H
BEGIN:VTIMEZONE
TZID:Asia/Karachi
BEGIN:STANDARD
TZOFFSETFROM:+0500
TZOFFSETTO:+0500
TZNAME:PKT
DTSTART:20250101T000000
END:STANDARD
END:VTIMEZONE
BEGIN:VEVENT
DTSTART;VALUE=DATE:20260415
DTEND;VALUE=DATE:20260508
DTSTAMP:20260424T022401
CREATED:20260328T234755Z
LAST-MODIFIED:20260402T205907Z
UID:377-1776211200-1778198399@stpetevet.com
SUMMARY:Nominate Us — Best Veterinarian | Tampa Bay Times Best of the Best
DESCRIPTION:Nominate St. Pete Veterinary Hospital for Best Veterinarian in the Tampa Bay Times Best of the Best! Nominations are open April 15th – May 7th. It only takes a minute and means the world to our entire team. Click the button below to nominate us today!
URL:https://stpetevet.com/event/nominate-us-best-veterinarian/
LOCATION:St. Pete Veterinary Hospital\, 3501 1st Ave. S.\, St. Petersburg\, FL\, 33711\, United States
ATTACH;FMTTYPE=image/png:https://stpetevet.com/wp-content/uploads/2026/03/2026_bob_circle_nominate.png
END:VEVENT
END:VCALENDAR